BEGIN:VCALENDAR
VERSION:2.0
PRODID:icalendar-ruby
CALSCALE:GREGORIAN
BEGIN:VEVENT
DTSTAMP:20260424T065528Z
UID:70dca32e-6d87-4c01-a5a5-ade7c2a463d0
DTSTART;VALUE=DATE:20210519
DESCRIPTION:Property ID# 507254\, Time: 10:00AM
SUMMARY:Auction for 
END:VEVENT
END:VCALENDAR
